BEGIN:VCALENDAR
VERSION:2.0
PRODID:-//Santa Cecilia - Roma - ECPv6.0.9//NONSGML v1.0//EN
CALSCALE:GREGORIAN
METHOD:PUBLISH
X-WR-CALNAME:Santa Cecilia - Roma
X-ORIGINAL-URL:http://dev.conservatoriosantacecilia.it
X-WR-CALDESC:Eventi per Santa Cecilia - Roma
REFRESH-INTERVAL;VALUE=DURATION:PT1H
X-Robots-Tag:noindex
X-PUBLISHED-TTL:PT1H
BEGIN:VTIMEZONE
TZID:Europe/Rome
BEGIN:DAYLIGHT
TZOFFSETFROM:+0100
TZOFFSETTO:+0200
TZNAME:CEST
DTSTART:20240331T010000
END:DAYLIGHT
BEGIN:STANDARD
TZOFFSETFROM:+0200
TZOFFSETTO:+0100
TZNAME:CET
DTSTART:20241027T010000
END:STANDARD
END:VTIMEZONE
BEGIN:VEVENT
DTSTART;TZID=Europe/Rome:20240519T180000
DTEND;TZID=Europe/Rome:20240519T193000
DTSTAMP:20260422T223431
CREATED:20240321T172129Z
LAST-MODIFIED:20240518T141559Z
UID:107214-1716141600-1716147000@dev.conservatoriosantacecilia.it
SUMMARY:Jazz idea 2024 Festival
DESCRIPTION:Clicca qui per scaricare la locandina \n  \n \n 
URL:http://dev.conservatoriosantacecilia.it/evento/jazz-idea-2024-festival/
LOCATION:Sala Accademica Conservatorio Santa Cecilia\, Italia
ATTACH;FMTTYPE=image/jpeg:http://dev.conservatoriosantacecilia.it/wp-content/uploads/2024/03/IMG_1881-e1716018790883.jpeg
END:VEVENT
END:VCALENDAR